BEGIN:VCALENDAR
VERSION:2.0
PRODID:-//La Main du Coeur - ECPv6.15.20//NONSGML v1.0//EN
CALSCALE:GREGORIAN
METHOD:PUBLISH
X-WR-CALNAME:La Main du Coeur
X-ORIGINAL-URL:https://www.lamainducoeur.fr
X-WR-CALDESC:Évènements pour La Main du Coeur
REFRESH-INTERVAL;VALUE=DURATION:PT1H
X-Robots-Tag:noindex
X-PUBLISHED-TTL:PT1H
BEGIN:VTIMEZONE
TZID:Europe/Paris
BEGIN:DAYLIGHT
TZOFFSETFROM:+0100
TZOFFSETTO:+0200
TZNAME:CEST
DTSTART:20250330T010000
END:DAYLIGHT
BEGIN:STANDARD
TZOFFSETFROM:+0200
TZOFFSETTO:+0100
TZNAME:CET
DTSTART:20251026T010000
END:STANDARD
BEGIN:DAYLIGHT
TZOFFSETFROM:+0100
TZOFFSETTO:+0200
TZNAME:CEST
DTSTART:20260329T010000
END:DAYLIGHT
BEGIN:STANDARD
TZOFFSETFROM:+0200
TZOFFSETTO:+0100
TZNAME:CET
DTSTART:20261025T010000
END:STANDARD
BEGIN:DAYLIGHT
TZOFFSETFROM:+0100
TZOFFSETTO:+0200
TZNAME:CEST
DTSTART:20270328T010000
END:DAYLIGHT
BEGIN:STANDARD
TZOFFSETFROM:+0200
TZOFFSETTO:+0100
TZNAME:CET
DTSTART:20271031T010000
END:STANDARD
END:VTIMEZONE
BEGIN:VEVENT
DTSTART;VALUE=DATE:20260627
DTEND;VALUE=DATE:20260628
DTSTAMP:20260421T175152
CREATED:20250425T144836Z
LAST-MODIFIED:20260324T141134Z
UID:6724-1782518400-1782604799@www.lamainducoeur.fr
SUMMARY:Tournoi du Cœur - Foot à 5
DESCRIPTION:
URL:https://www.lamainducoeur.fr/event/tournoi-du-coeur-foot-a-5/
LOCATION:KG5 à Mundolsheim\, 4\, rue de l'Industrie\, Mundolsheim\, 67450\, France
CATEGORIES:Evénements caritatifs
END:VEVENT
END:VCALENDAR