BEGIN:VCALENDAR
VERSION:2.0
PRODID:-//La Main du Coeur - ECPv6.15.20//NONSGML v1.0//EN
CALSCALE:GREGORIAN
METHOD:PUBLISH
X-WR-CALNAME:La Main du Coeur
X-ORIGINAL-URL:https://www.lamainducoeur.fr
X-WR-CALDESC:Évènements pour La Main du Coeur
REFRESH-INTERVAL;VALUE=DURATION:PT1H
X-Robots-Tag:noindex
X-PUBLISHED-TTL:PT1H
BEGIN:VTIMEZONE
TZID:Europe/Paris
BEGIN:DAYLIGHT
TZOFFSETFROM:+0100
TZOFFSETTO:+0200
TZNAME:CEST
DTSTART:20240331T010000
END:DAYLIGHT
BEGIN:STANDARD
TZOFFSETFROM:+0200
TZOFFSETTO:+0100
TZNAME:CET
DTSTART:20241027T010000
END:STANDARD
BEGIN:DAYLIGHT
TZOFFSETFROM:+0100
TZOFFSETTO:+0200
TZNAME:CEST
DTSTART:20250330T010000
END:DAYLIGHT
BEGIN:STANDARD
TZOFFSETFROM:+0200
TZOFFSETTO:+0100
TZNAME:CET
DTSTART:20251026T010000
END:STANDARD
BEGIN:DAYLIGHT
TZOFFSETFROM:+0100
TZOFFSETTO:+0200
TZNAME:CEST
DTSTART:20260329T010000
END:DAYLIGHT
BEGIN:STANDARD
TZOFFSETFROM:+0200
TZOFFSETTO:+0100
TZNAME:CET
DTSTART:20261025T010000
END:STANDARD
END:VTIMEZONE
BEGIN:VEVENT
DTSTART;VALUE=DATE:20250927
DTEND;VALUE=DATE:20250929
DTSTAMP:20260422T011000
CREATED:20241204T145712Z
LAST-MODIFIED:20241204T145712Z
UID:6148-1758931200-1759103999@www.lamainducoeur.fr
SUMMARY:Vernissage du Cœur
DESCRIPTION:
URL:https://www.lamainducoeur.fr/event/vernissage-du-coeur-4/
LOCATION:Pavillon Joséphine – Parc de l’Orangerie à Strasbourg\, Parc de l'Orangerie\, Strasbourg\, 67000\, France
CATEGORIES:Evénements caritatifs
END:VEVENT
END:VCALENDAR