BEGIN:VCALENDAR
VERSION:2.0
PRODID:-//La Main du Coeur - ECPv6.15.20//NONSGML v1.0//EN
CALSCALE:GREGORIAN
METHOD:PUBLISH
X-WR-CALNAME:La Main du Coeur
X-ORIGINAL-URL:https://www.lamainducoeur.fr
X-WR-CALDESC:Évènements pour La Main du Coeur
REFRESH-INTERVAL;VALUE=DURATION:PT1H
X-Robots-Tag:noindex
X-PUBLISHED-TTL:PT1H
BEGIN:VTIMEZONE
TZID:Europe/Paris
BEGIN:DAYLIGHT
TZOFFSETFROM:+0100
TZOFFSETTO:+0200
TZNAME:CEST
DTSTART:20230326T010000
END:DAYLIGHT
BEGIN:STANDARD
TZOFFSETFROM:+0200
TZOFFSETTO:+0100
TZNAME:CET
DTSTART:20231029T010000
END:STANDARD
BEGIN:DAYLIGHT
TZOFFSETFROM:+0100
TZOFFSETTO:+0200
TZNAME:CEST
DTSTART:20240331T010000
END:DAYLIGHT
BEGIN:STANDARD
TZOFFSETFROM:+0200
TZOFFSETTO:+0100
TZNAME:CET
DTSTART:20241027T010000
END:STANDARD
BEGIN:DAYLIGHT
TZOFFSETFROM:+0100
TZOFFSETTO:+0200
TZNAME:CEST
DTSTART:20250330T010000
END:DAYLIGHT
BEGIN:STANDARD
TZOFFSETFROM:+0200
TZOFFSETTO:+0100
TZNAME:CET
DTSTART:20251026T010000
END:STANDARD
END:VTIMEZONE
BEGIN:VEVENT
DTSTART;VALUE=DATE:20241006
DTEND;VALUE=DATE:20241007
DTSTAMP:20260422T152206
CREATED:20231121T160657Z
LAST-MODIFIED:20240305T104409Z
UID:5710-1728172800-1728259199@www.lamainducoeur.fr
SUMMARY:Vente aux Enchères de Vins & Champagnes
DESCRIPTION:
URL:https://www.lamainducoeur.fr/event/vente-aux-encheres-de-vins-champagnes/
LOCATION:Villa Schmidt – Kehl (Allemagne)\, Ludwig-Trick-Straße 12\, KEHL\, 77694\, Allemagne
CATEGORIES:Evénements caritatifs
END:VEVENT
BEGIN:VEVENT
DTSTART;VALUE=DATE:20241013
DTEND;VALUE=DATE:20241014
DTSTAMP:20260422T152206
CREATED:20231122T140716Z
LAST-MODIFIED:20240408T073459Z
UID:5713-1728777600-1728863999@www.lamainducoeur.fr
SUMMARY:Vente aux Enchères de Vins & Champagnes
DESCRIPTION:
URL:https://www.lamainducoeur.fr/event/vente-aux-encheres-de-vins-champagnes-2/
LOCATION:Auberge du Zoo – Mulhouse\, 31 Avenue de la 9ème Division d'Infanterie Coloniale\, MULHOUSE\, 68100\, France
CATEGORIES:Evénements caritatifs
END:VEVENT
END:VCALENDAR