BEGIN:VCALENDAR
VERSION:2.0
PRODID:-//La Main du Coeur - ECPv6.15.20//NONSGML v1.0//EN
CALSCALE:GREGORIAN
METHOD:PUBLISH
X-WR-CALNAME:La Main du Coeur
X-ORIGINAL-URL:https://www.lamainducoeur.fr
X-WR-CALDESC:Évènements pour La Main du Coeur
REFRESH-INTERVAL;VALUE=DURATION:PT1H
X-Robots-Tag:noindex
X-PUBLISHED-TTL:PT1H
BEGIN:VTIMEZONE
TZID:Europe/Paris
BEGIN:DAYLIGHT
TZOFFSETFROM:+0100
TZOFFSETTO:+0200
TZNAME:CEST
DTSTART:20230326T010000
END:DAYLIGHT
BEGIN:STANDARD
TZOFFSETFROM:+0200
TZOFFSETTO:+0100
TZNAME:CET
DTSTART:20231029T010000
END:STANDARD
BEGIN:DAYLIGHT
TZOFFSETFROM:+0100
TZOFFSETTO:+0200
TZNAME:CEST
DTSTART:20240331T010000
END:DAYLIGHT
BEGIN:STANDARD
TZOFFSETFROM:+0200
TZOFFSETTO:+0100
TZNAME:CET
DTSTART:20241027T010000
END:STANDARD
BEGIN:DAYLIGHT
TZOFFSETFROM:+0100
TZOFFSETTO:+0200
TZNAME:CEST
DTSTART:20250330T010000
END:DAYLIGHT
BEGIN:STANDARD
TZOFFSETFROM:+0200
TZOFFSETTO:+0100
TZNAME:CET
DTSTART:20251026T010000
END:STANDARD
END:VTIMEZONE
BEGIN:VEVENT
DTSTART;VALUE=DATE:20240614
DTEND;VALUE=DATE:20240615
DTSTAMP:20260422T215225
CREATED:20231122T140909Z
LAST-MODIFIED:20231122T140909Z
UID:5715-1718323200-1718409599@www.lamainducoeur.fr
SUMMARY:Golf Immo
DESCRIPTION:
URL:https://www.lamainducoeur.fr/event/golf-immo-4/
LOCATION:Golf de La Wantzenau\, D302\, La Wantzenau\, 67610\, France
CATEGORIES:Evénements caritatifs
END:VEVENT
BEGIN:VEVENT
DTSTART;VALUE=DATE:20240622
DTEND;VALUE=DATE:20240623
DTSTAMP:20260422T215225
CREATED:20231122T141117Z
LAST-MODIFIED:20240129T164718Z
UID:5719-1719014400-1719100799@www.lamainducoeur.fr
SUMMARY:Course des Petits Pas du Coeur
DESCRIPTION:
URL:https://www.lamainducoeur.fr/event/course-des-petits-pas-du-coeur-3/
LOCATION:Andlau
CATEGORIES:Evénements caritatifs
END:VEVENT
END:VCALENDAR